BEGIN:VCALENDAR
VERSION:2.0
PRODID:-//ARSA - ECPv6.15.15//NONSGML v1.0//EN
CALSCALE:GREGORIAN
METHOD:PUBLISH
X-WR-CALNAME:ARSA
X-ORIGINAL-URL:https://arsa.org
X-WR-CALDESC:Events for ARSA
REFRESH-INTERVAL;VALUE=DURATION:PT1H
X-Robots-Tag:noindex
X-PUBLISHED-TTL:PT1H
BEGIN:VTIMEZONE
TZID:America/New_York
BEGIN:DAYLIGHT
TZOFFSETFROM:-0500
TZOFFSETTO:-0400
TZNAME:EDT
DTSTART:20180311T070000
END:DAYLIGHT
BEGIN:STANDARD
TZOFFSETFROM:-0400
TZOFFSETTO:-0500
TZNAME:EST
DTSTART:20181104T060000
END:STANDARD
BEGIN:DAYLIGHT
TZOFFSETFROM:-0500
TZOFFSETTO:-0400
TZNAME:EDT
DTSTART:20190310T070000
END:DAYLIGHT
BEGIN:STANDARD
TZOFFSETFROM:-0400
TZOFFSETTO:-0500
TZNAME:EST
DTSTART:20191103T060000
END:STANDARD
BEGIN:DAYLIGHT
TZOFFSETFROM:-0500
TZOFFSETTO:-0400
TZNAME:EDT
DTSTART:20200308T070000
END:DAYLIGHT
BEGIN:STANDARD
TZOFFSETFROM:-0400
TZOFFSETTO:-0500
TZNAME:EST
DTSTART:20201101T060000
END:STANDARD
END:VTIMEZONE
BEGIN:VEVENT
DTSTART;TZID=America/New_York:20190903T110000
DTEND;TZID=America/New_York:20190903T120000
DTSTAMP:20260420T113246
CREATED:20190724T211201Z
LAST-MODIFIED:20190724T211201Z
UID:14075-1567508400-1567512000@arsa.org
SUMMARY:Online Human Factors Training: Lack of Knowledge
DESCRIPTION:Upcoming Live Sessions – The Dirty Dozen in Depth\n\n\n\nSession Topic\n \nDate\n \nTime\n \n\nRegistration/Information \n\n\n\nComplacency\n \nTuesday\, Aug. 27\n \n11:00 a.m.-12:00 p.m. EDT\n \nClick here.\n\n\nLack of Knowledge\n \nTuesday\, Sept. 3\n \n11:00 a.m.-12:00 p.m. EDT\n \nClick here.\n\n\nDistraction\n \nThursday\, Sept. 5\n \n11:00 a.m.-12:00 p.m. EDT\n \nClick here.\n\n\nLack of Teamwork\n \nTuesday\, Sept. 17\n \n11:00 a.m.-12:00 p.m. EDT\n \nClick here.\n\n\nFatigue\n \nTuesday\, Sept. 24\n \n11:00 a.m.-12:00 p.m. EDT\n \nClick here.\n\n\nLack of Resources\n \nThursday\, Sept. 26\n \n11:00 a.m.-12:00 p.m. EDT\n \nClick here.\n\n\nPressure\n \nTuesday\, Oct. 1\n \n11:00 a.m.-12:00 p.m. EDT\n \nClick here.\n\n\nLack of Assertiveness\n \nTuesday\, Oct. 8\n \n11:00 a.m.-12:00 p.m. EDT\n \nClick here.\n\n\nStress\n \nThursday\, Oct. 10\n \n11:00 a.m.-12:00 p.m. EDT\n \nClick here.\n\n\nLack of Awareness\n \nTuesday\, Oct. 22\n \n11:00 a.m.-12:00 p.m. EDT\n \nClick here.\n\n\nNorms\n \nTuesday\, Oct. 29\n \n11:00 a.m.-12:00 p.m. EDT\n \nClick here.
URL:https://arsa.org/event/online-human-factors-training-lack-of-knowledge/
CATEGORIES:ARSA Online Training
END:VEVENT
BEGIN:VEVENT
DTSTART;TZID=America/New_York:20190905T110000
DTEND;TZID=America/New_York:20190905T120000
DTSTAMP:20260420T113246
CREATED:20190724T211254Z
LAST-MODIFIED:20190724T211254Z
UID:14076-1567681200-1567684800@arsa.org
SUMMARY:Online Human Factors Training: Distraction
DESCRIPTION:Upcoming Live Sessions – The Dirty Dozen in Depth\n\n\n\nSession Topic\n \nDate\n \nTime\n \n\nRegistration/Information \n\n\n\nComplacency\n \nTuesday\, Aug. 27\n \n11:00 a.m.-12:00 p.m. EDT\n \nClick here.\n\n\nLack of Knowledge\n \nTuesday\, Sept. 3\n \n11:00 a.m.-12:00 p.m. EDT\n \nClick here.\n\n\nDistraction\n \nThursday\, Sept. 5\n \n11:00 a.m.-12:00 p.m. EDT\n \nClick here.\n\n\nLack of Teamwork\n \nTuesday\, Sept. 17\n \n11:00 a.m.-12:00 p.m. EDT\n \nClick here.\n\n\nFatigue\n \nTuesday\, Sept. 24\n \n11:00 a.m.-12:00 p.m. EDT\n \nClick here.\n\n\nLack of Resources\n \nThursday\, Sept. 26\n \n11:00 a.m.-12:00 p.m. EDT\n \nClick here.\n\n\nPressure\n \nTuesday\, Oct. 1\n \n11:00 a.m.-12:00 p.m. EDT\n \nClick here.\n\n\nLack of Assertiveness\n \nTuesday\, Oct. 8\n \n11:00 a.m.-12:00 p.m. EDT\n \nClick here.\n\n\nStress\n \nThursday\, Oct. 10\n \n11:00 a.m.-12:00 p.m. EDT\n \nClick here.\n\n\nLack of Awareness\n \nTuesday\, Oct. 22\n \n11:00 a.m.-12:00 p.m. EDT\n \nClick here.\n\n\nNorms\n \nTuesday\, Oct. 29\n \n11:00 a.m.-12:00 p.m. EDT\n \nClick here.
URL:https://arsa.org/event/online-human-factors-training-distraction/
CATEGORIES:ARSA Online Training
END:VEVENT
BEGIN:VEVENT
DTSTART;TZID=America/New_York:20190917T110000
DTEND;TZID=America/New_York:20190917T120000
DTSTAMP:20260420T113246
CREATED:20190724T211337Z
LAST-MODIFIED:20190724T211337Z
UID:14077-1568718000-1568721600@arsa.org
SUMMARY:Online Human Factors Training: Lack of Teamwork
DESCRIPTION:Upcoming Live Sessions – The Dirty Dozen in Depth\n\n\n\nSession Topic\n \nDate\n \nTime\n \n\nRegistration/Information \n\n\n\nComplacency\n \nTuesday\, Aug. 27\n \n11:00 a.m.-12:00 p.m. EDT\n \nClick here.\n\n\nLack of Knowledge\n \nTuesday\, Sept. 3\n \n11:00 a.m.-12:00 p.m. EDT\n \nClick here.\n\n\nDistraction\n \nThursday\, Sept. 5\n \n11:00 a.m.-12:00 p.m. EDT\n \nClick here.\n\n\nLack of Teamwork\n \nTuesday\, Sept. 17\n \n11:00 a.m.-12:00 p.m. EDT\n \nClick here.\n\n\nFatigue\n \nTuesday\, Sept. 24\n \n11:00 a.m.-12:00 p.m. EDT\n \nClick here.\n\n\nLack of Resources\n \nThursday\, Sept. 26\n \n11:00 a.m.-12:00 p.m. EDT\n \nClick here.\n\n\nPressure\n \nTuesday\, Oct. 1\n \n11:00 a.m.-12:00 p.m. EDT\n \nClick here.\n\n\nLack of Assertiveness\n \nTuesday\, Oct. 8\n \n11:00 a.m.-12:00 p.m. EDT\n \nClick here.\n\n\nStress\n \nThursday\, Oct. 10\n \n11:00 a.m.-12:00 p.m. EDT\n \nClick here.\n\n\nLack of Awareness\n \nTuesday\, Oct. 22\n \n11:00 a.m.-12:00 p.m. EDT\n \nClick here.\n\n\nNorms\n \nTuesday\, Oct. 29\n \n11:00 a.m.-12:00 p.m. EDT\n \nClick here.
URL:https://arsa.org/event/online-human-factors-training-lack-of-teamwork/
CATEGORIES:ARSA Online Training
END:VEVENT
BEGIN:VEVENT
DTSTART;TZID=America/New_York:20190924T110000
DTEND;TZID=America/New_York:20190924T120000
DTSTAMP:20260420T113246
CREATED:20190724T211417Z
LAST-MODIFIED:20190724T212030Z
UID:14078-1569322800-1569326400@arsa.org
SUMMARY:Online Human Factors Training: Fatigue
DESCRIPTION:Upcoming Live Sessions – The Dirty Dozen in Depth\n\n\n\nSession Topic\n \nDate\n \nTime\n \n\nRegistration/Information \n\n\n\nComplacency\n \nTuesday\, Aug. 27\n \n11:00 a.m.-12:00 p.m. EDT\n \nClick here.\n\n\nLack of Knowledge\n \nTuesday\, Sept. 3\n \n11:00 a.m.-12:00 p.m. EDT\n \nClick here.\n\n\nDistraction\n \nThursday\, Sept. 5\n \n11:00 a.m.-12:00 p.m. EDT\n \nClick here.\n\n\nLack of Teamwork\n \nTuesday\, Sept. 17\n \n11:00 a.m.-12:00 p.m. EDT\n \nClick here.\n\n\nFatigue\n \nTuesday\, Sept. 24\n \n11:00 a.m.-12:00 p.m. EDT\n \nClick here.\n\n\nLack of Resources\n \nThursday\, Sept. 26\n \n11:00 a.m.-12:00 p.m. EDT\n \nClick here.\n\n\nPressure\n \nTuesday\, Oct. 1\n \n11:00 a.m.-12:00 p.m. EDT\n \nClick here.\n\n\nLack of Assertiveness\n \nTuesday\, Oct. 8\n \n11:00 a.m.-12:00 p.m. EDT\n \nClick here.\n\n\nStress\n \nThursday\, Oct. 10\n \n11:00 a.m.-12:00 p.m. EDT\n \nClick here.\n\n\nLack of Awareness\n \nTuesday\, Oct. 22\n \n11:00 a.m.-12:00 p.m. EDT\n \nClick here.\n\n\nNorms\n \nTuesday\, Oct. 29\n \n11:00 a.m.-12:00 p.m. EDT\n \nClick here.
URL:https://arsa.org/event/online-human-factors-training-fatigue/
CATEGORIES:ARSA Online Training
END:VEVENT
BEGIN:VEVENT
DTSTART;TZID=America/New_York:20190926T110000
DTEND;TZID=America/New_York:20190926T120000
DTSTAMP:20260420T113246
CREATED:20190724T211512Z
LAST-MODIFIED:20190724T211512Z
UID:14079-1569495600-1569499200@arsa.org
SUMMARY:Online Human Factors Training: Lack of Resources
DESCRIPTION:Upcoming Live Sessions – The Dirty Dozen in Depth\n\n\n\nSession Topic\n \nDate\n \nTime\n \n\nRegistration/Information \n\n\n\nComplacency\n \nTuesday\, Aug. 27\n \n11:00 a.m.-12:00 p.m. EDT\n \nClick here.\n\n\nLack of Knowledge\n \nTuesday\, Sept. 3\n \n11:00 a.m.-12:00 p.m. EDT\n \nClick here.\n\n\nDistraction\n \nThursday\, Sept. 5\n \n11:00 a.m.-12:00 p.m. EDT\n \nClick here.\n\n\nLack of Teamwork\n \nTuesday\, Sept. 17\n \n11:00 a.m.-12:00 p.m. EDT\n \nClick here.\n\n\nFatigue\n \nTuesday\, Sept. 24\n \n11:00 a.m.-12:00 p.m. EDT\n \nClick here.\n\n\nLack of Resources\n \nThursday\, Sept. 26\n \n11:00 a.m.-12:00 p.m. EDT\n \nClick here.\n\n\nPressure\n \nTuesday\, Oct. 1\n \n11:00 a.m.-12:00 p.m. EDT\n \nClick here.\n\n\nLack of Assertiveness\n \nTuesday\, Oct. 8\n \n11:00 a.m.-12:00 p.m. EDT\n \nClick here.\n\n\nStress\n \nThursday\, Oct. 10\n \n11:00 a.m.-12:00 p.m. EDT\n \nClick here.\n\n\nLack of Awareness\n \nTuesday\, Oct. 22\n \n11:00 a.m.-12:00 p.m. EDT\n \nClick here.\n\n\nNorms\n \nTuesday\, Oct. 29\n \n11:00 a.m.-12:00 p.m. EDT\n \nClick here.
URL:https://arsa.org/event/online-human-factors-training-lack-of-resources/
CATEGORIES:ARSA Online Training
END:VEVENT
END:VCALENDAR